BEGIN:VCALENDAR
VERSION:2.0
PRODID:-//Freiwillige Feuerwehr Dirmstein | VG Leiningerland - ECPv6.15.20//NONSGML v1.0//EN
CALSCALE:GREGORIAN
METHOD:PUBLISH
X-WR-CALNAME:Freiwillige Feuerwehr Dirmstein | VG Leiningerland
X-ORIGINAL-URL:https://ffw-dirmstein.de
X-WR-CALDESC:Veranstaltungen für Freiwillige Feuerwehr Dirmstein | VG Leiningerland
REFRESH-INTERVAL;VALUE=DURATION:PT1H
X-Robots-Tag:noindex
X-PUBLISHED-TTL:PT1H
BEGIN:VTIMEZONE
TZID:Europe/Berlin
BEGIN:DAYLIGHT
TZOFFSETFROM:+0100
TZOFFSETTO:+0200
TZNAME:CEST
DTSTART:20250330T010000
END:DAYLIGHT
BEGIN:STANDARD
TZOFFSETFROM:+0200
TZOFFSETTO:+0100
TZNAME:CET
DTSTART:20251026T010000
END:STANDARD
BEGIN:DAYLIGHT
TZOFFSETFROM:+0100
TZOFFSETTO:+0200
TZNAME:CEST
DTSTART:20260329T010000
END:DAYLIGHT
BEGIN:STANDARD
TZOFFSETFROM:+0200
TZOFFSETTO:+0100
TZNAME:CET
DTSTART:20261025T010000
END:STANDARD
BEGIN:DAYLIGHT
TZOFFSETFROM:+0100
TZOFFSETTO:+0200
TZNAME:CEST
DTSTART:20270328T010000
END:DAYLIGHT
BEGIN:STANDARD
TZOFFSETFROM:+0200
TZOFFSETTO:+0100
TZNAME:CET
DTSTART:20271031T010000
END:STANDARD
END:VTIMEZONE
BEGIN:VEVENT
DTSTART;TZID=Europe/Berlin:20260620T180000
DTEND;TZID=Europe/Berlin:20260620T235900
DTSTAMP:20260420T124456
CREATED:20251221T104804Z
LAST-MODIFIED:20251221T105417Z
UID:8521-1781978400-1781999940@ffw-dirmstein.de
SUMMARY:Tag der offenen Tür - 160 Jahre Feuerwehr Dirmstein
DESCRIPTION:
URL:https://ffw-dirmstein.de/veranstaltung/tag-der-offenen-tuer-160-jahre-feuerwehr-dirmstein/
LOCATION:Freiwillige Feuerwehr Dirmstein\, Affenstein 32\, Dirmstein\, Rheinland-Pfalz\, 67246\, Germany
CATEGORIES:Veranstaltung - Förderverein Freiwillige Feuerwehr Dirmstein
ATTACH;FMTTYPE=image/jpeg:https://ffw-dirmstein.de/wp-content/uploads/2025/12/IMG_3335-scaled.jpg
ORGANIZER;CN="Feuerwehr F%C3%B6rderverein St. Florian e. V. Dirmstein":MAILTO:info@feuerwehr-dirmstein.de
END:VEVENT
END:VCALENDAR