BEGIN:VCALENDAR
VERSION:2.0
PRODID:-//Freiwillige Feuerwehr Dirmstein | VG Leiningerland - ECPv6.15.20//NONSGML v1.0//EN
CALSCALE:GREGORIAN
METHOD:PUBLISH
X-WR-CALNAME:Freiwillige Feuerwehr Dirmstein | VG Leiningerland
X-ORIGINAL-URL:https://ffw-dirmstein.de
X-WR-CALDESC:Veranstaltungen für Freiwillige Feuerwehr Dirmstein | VG Leiningerland
REFRESH-INTERVAL;VALUE=DURATION:PT1H
X-Robots-Tag:noindex
X-PUBLISHED-TTL:PT1H
BEGIN:VTIMEZONE
TZID:Europe/Berlin
BEGIN:DAYLIGHT
TZOFFSETFROM:+0100
TZOFFSETTO:+0200
TZNAME:CEST
DTSTART:20250330T010000
END:DAYLIGHT
BEGIN:STANDARD
TZOFFSETFROM:+0200
TZOFFSETTO:+0100
TZNAME:CET
DTSTART:20251026T010000
END:STANDARD
BEGIN:DAYLIGHT
TZOFFSETFROM:+0100
TZOFFSETTO:+0200
TZNAME:CEST
DTSTART:20260329T010000
END:DAYLIGHT
BEGIN:STANDARD
TZOFFSETFROM:+0200
TZOFFSETTO:+0100
TZNAME:CET
DTSTART:20261025T010000
END:STANDARD
BEGIN:DAYLIGHT
TZOFFSETFROM:+0100
TZOFFSETTO:+0200
TZNAME:CEST
DTSTART:20270328T010000
END:DAYLIGHT
BEGIN:STANDARD
TZOFFSETFROM:+0200
TZOFFSETTO:+0100
TZNAME:CET
DTSTART:20271031T010000
END:STANDARD
END:VTIMEZONE
BEGIN:VEVENT
DTSTART;TZID=Europe/Berlin:20260913T120000
DTEND;TZID=Europe/Berlin:20260913T235900
DTSTAMP:20260420T125904
CREATED:20251221T110240Z
LAST-MODIFIED:20251221T110240Z
UID:8533-1789300800-1789343940@ffw-dirmstein.de
SUMMARY:Jahrmarkt Dirmstein
DESCRIPTION:
URL:https://ffw-dirmstein.de/veranstaltung/jahrmarkt-dirmstein-3/
LOCATION:Schlossplatz Dirmstein\, Schlossplatz\, Dirmstein\, Rheinland-Pfalz\, 67246\, Germany
CATEGORIES:Veranstaltung - Förderverein Freiwillige Feuerwehr Dirmstein
ATTACH;FMTTYPE=image/jpeg:https://ffw-dirmstein.de/wp-content/uploads/2025/09/60a4374a-d2a1-4874-8ee2-218d410c1ec2.jpg
ORGANIZER;CN="Feuerwehr F%C3%B6rderverein St. Florian e. V. Dirmstein":MAILTO:info@feuerwehr-dirmstein.de
END:VEVENT
END:VCALENDAR